BEGIN:VCALENDAR
VERSION:2.0
PRODID:-//wp-events-plugin.com//7.2.3.1//EN
TZID:America/Denver
X-WR-TIMEZONE:America/Denver
BEGIN:VEVENT
UID:56-100@academictesting.wnmu.edu
DTSTART;TZID=America/Denver:20260415T090000
DTEND;TZID=America/Denver:20260416T170000
DTSTAMP:20260324T144932Z
URL:https://academictesting.wnmu.edu/events/lab-closed-reserved-for-natura
 l-sciences-graduates/
SUMMARY:Lab closed\, reserved for Natural Sciences graduates
DESCRIPTION:
CATEGORIES:Academic Testing,test
END:VEVENT
BEGIN:VTIMEZONE
TZID:America/Denver
X-LIC-LOCATION:America/Denver
BEGIN:DAYLIGHT
DTSTART:20260308T030000
TZOFFSETFROM:-0700
TZOFFSETTO:-0600
TZNAME:MDT
END:DAYLIGHT
END:VTIMEZONE
END:VCALENDAR