BEGIN:VCALENDAR
VERSION:2.0
PRODID:-//wp-events-plugin.com//7.2.3.1//EN
TZID:America/Denver
X-WR-TIMEZONE:America/Denver
BEGIN:VEVENT
UID:56-111@academictesting.wnmu.edu
DTSTART;TZID=America/Denver:20260401T090000
DTEND;TZID=America/Denver:20260401T120000
DTSTAMP:20260324T220827Z
URL:https://academictesting.wnmu.edu/events/accuplacer-testing-6/
SUMMARY:Accuplacer Testing
DESCRIPTION:Accuplacer testing is available on Wednesday\, April 1\, only f
 or the morning shift. Please arrive on time to avoid disrupting other test
 ers.
CATEGORIES:Accuplacer
END:VEVENT
BEGIN:VTIMEZONE
TZID:America/Denver
X-LIC-LOCATION:America/Denver
BEGIN:DAYLIGHT
DTSTART:20260308T030000
TZOFFSETFROM:-0700
TZOFFSETTO:-0600
TZNAME:MDT
END:DAYLIGHT
END:VTIMEZONE
END:VCALENDAR